BEGIN:VCALENDAR
VERSION:2.0
PRODID:-//Abundance Life 願いを叶えるオーラ&amp;チャクラ - ECPv6.9.0//NONSGML v1.0//EN
CALSCALE:GREGORIAN
METHOD:PUBLISH
X-WR-CALNAME:Abundance Life 願いを叶えるオーラ&amp;チャクラ
X-ORIGINAL-URL:https://www.kawakami-misa.com
X-WR-CALDESC:Abundance Life 願いを叶えるオーラ&amp;チャクラ のイベント
REFRESH-INTERVAL;VALUE=DURATION:PT1H
X-Robots-Tag:noindex
X-PUBLISHED-TTL:PT1H
BEGIN:VTIMEZONE
TZID:Asia/Tokyo
BEGIN:STANDARD
TZOFFSETFROM:+0900
TZOFFSETTO:+0900
TZNAME:JST
DTSTART:20140101T000000
END:STANDARD
END:VTIMEZONE
BEGIN:VEVENT
DTSTART;TZID=Asia/Tokyo:20141007T190000
DTEND;TZID=Asia/Tokyo:20141007T210000
DTSTAMP:20260423T201348
CREATED:20140927T114259Z
LAST-MODIFIED:20140927T114259Z
UID:342-1412708400-1412715600@www.kawakami-misa.com
SUMMARY:キラキラ☆運気アップ女子会☆
DESCRIPTION:先日とても盛り上がった\nキラキラ☆運気アップ女子会☆ \n今回も五名様限定で開催します！ \n日時 10月7日 火曜日 19時スタート \n場所 川上美佐サロン 薬院駅近く\n　　・参加者の方にお伝えします \n会費 2000円 軽食付き \n・恋愛\n・人間関係\n・仕事 \n楽しく女子トークしながら\n運気アップしましょ♡ \nお気軽にご参加下さい*\(^o^)/* \nお申し込みは\ninfo@kawakami-misa.com \nタイトルに「女子会参加希望」とお書き下さいませ。\n・お名前\n・年齢\n・連絡先\n以上をお願い致します。
URL:https://www.kawakami-misa.com/event/%e3%82%ad%e3%83%a9%e3%82%ad%e3%83%a9%e2%98%86%e9%81%8b%e6%b0%97%e3%82%a2%e3%83%83%e3%83%97%e5%a5%b3%e5%ad%90%e4%bc%9a%e2%98%86/
END:VEVENT
BEGIN:VEVENT
DTSTART;TZID=Asia/Tokyo:20140930T110000
DTEND;TZID=Asia/Tokyo:20140930T180000
DTSTAMP:20260423T201348
CREATED:20140925T070024Z
LAST-MODIFIED:20140925T070024Z
UID:335-1412074800-1412100000@www.kawakami-misa.com
SUMMARY:９月３０日（火）サンセルコでイベントをします！！
DESCRIPTION:９月３０日（火） \n１１：００～１８：００ \nサンセルコでイベントをします！！ \n福岡市中央区渡辺通１－１－１\nサンセルコビル１F\n天神駅より徒歩１０分\n渡辺通駅直結\nニューオータニ隣 \n☆チャクラチェック \nあなたのチャクラの状態をペンジュラムで診断します！\n例えば、第４チャクラが弱っていたら\n「自己愛不足」\n「恋愛がうまくいかない」\n第１チャクラが弱っていたら\n「元気がでない」\n「わかっているけど動けない」\nなど。 \n必要なパワーストーンもお選びします☆ \n一回　１０００円\n（通常　３０００円） \n☆カードリーディング \n潜在意識からの情報をカードによって読み解きます。\n・仕事\n・恋愛\n・お金\n・人間関係\nなど。 \n知りたい事をお伝え致します。 \n２０分　２０００円\n（通常　５０分　１５０００円） \nかなりお手軽なお値段に設定しています！！ \nお気軽にお越し下さいませ❤
URL:https://www.kawakami-misa.com/event/%ef%bc%99%e6%9c%88%ef%bc%93%ef%bc%90%e6%97%a5%ef%bc%88%e7%81%ab%ef%bc%89%e3%82%b5%e3%83%b3%e3%82%bb%e3%83%ab%e3%82%b3%e3%81%a7%e3%82%a4%e3%83%99%e3%83%b3%e3%83%88/
END:VEVENT
END:VCALENDAR