BEGIN:VCALENDAR
VERSION:2.0
PRODID:-//Abundance Life 願いを叶えるオーラ&amp;チャクラ - ECPv6.9.0//NONSGML v1.0//EN
CALSCALE:GREGORIAN
METHOD:PUBLISH
X-WR-CALNAME:Abundance Life 願いを叶えるオーラ&amp;チャクラ
X-ORIGINAL-URL:https://www.kawakami-misa.com
X-WR-CALDESC:Abundance Life 願いを叶えるオーラ&amp;チャクラ のイベント
REFRESH-INTERVAL;VALUE=DURATION:PT1H
X-Robots-Tag:noindex
X-PUBLISHED-TTL:PT1H
BEGIN:VTIMEZONE
TZID:Asia/Tokyo
BEGIN:STANDARD
TZOFFSETFROM:+0900
TZOFFSETTO:+0900
TZNAME:JST
DTSTART:20170101T000000
END:STANDARD
END:VTIMEZONE
BEGIN:VEVENT
DTSTART;TZID=Asia/Tokyo:20170507T140000
DTEND;TZID=Asia/Tokyo:20170507T160000
DTSTAMP:20260423T074305
CREATED:20170410T134130Z
LAST-MODIFIED:20170410T134130Z
UID:1138-1494165600-1494172800@www.kawakami-misa.com
SUMMARY:小出直子さんの一瞬でなりたい私になる方法！
DESCRIPTION:毎回大好評の【小出直子さんのセミナー】 \n今回は、一瞬でなりたいわたしになる！\n『一瞬でなれるの？』\nそんな声が聞こえてきそうヾ(๑╹◡╹)ﾉ” \n直子さんのメソッドを使えば、\n一瞬でなれます！ \nところで、自分の名前は好きですか？ \n氏名＝使命！ \nここに直子さんのメソッドのヒミツがあります(*^^*) \n自分のヒミツを解き明かし\nなりたいわたしになりましょう！！ \n【日時】 ５月7日 日曜日\n                 １４時から１6時まで \n【場所】 クィーンズ・ギャンビット\n092-725-9006\n福岡県福岡市中央区薬院2-14-26 東洋薬院ビル　3F\nhttp://tabelog.com/fukuoka/A4001/A400104/40036768/\n薬院六つ角近く \n【会費】 3000円 \n直子さんのマジックにかかると\n必ず笑顔になります！ \n笑いあり涙ありの直子さんにしか出来ないセミナー(^.^)\n難しい理論や堅苦しいテキストは一切なし！！\n自分の枠を超えて、笑顔で幸せになる直子さんオリジナルのセミナーです*\(^o^)/* \n・お一人でも\n・招待されてなくても\n・初めての方も\n大歓迎です*\(^o^)/* \nぜひぜひご参加くださいませ(o^^o) \nお申し込みはこちらまで💁\nhttps://www.kawakami-misa.com/contact/ \n【小出直子プロフィール】\nデザイナー、アートプロデューサー、コラムライターなど、長年にわたり様々な業種で活躍。\nダライ・ラマ法王の迎賓イベントでは、チベット音楽プロデュースの大役を果たすなど、マルチプロデューサーとして知られる。\n芸術性、スピリチュアル性をベースとするオリジナルジュエリーブランド「Ms.GOD（ミスゴッド）」のプロデューサーを手掛け、各界の著名人たちが、その愛用者として名を連ねている。\n著書に『THE SYMBOL（ザ・シンボル）』（総合法令） \nニューヨーク市で、小出直子の「シンボルを使う脱“平凡メソッド”」の講演会に招聘される。\n（The NIPPON CLUB 主催） \n同時にMs．GODジュエリーアーテスト MICHIO KOIDE ニューヨーク個展プロデュース \nＭｓ．ＧＯＤホームページ\nhttp://www.ms-god.com/
URL:https://www.kawakami-misa.com/event/%e5%b0%8f%e5%87%ba%e7%9b%b4%e5%ad%90%e3%81%95%e3%82%93%e3%81%ae%e4%b8%80%e7%9e%ac%e3%81%a7%e6%b3%a3%e3%81%84%e3%81%9f%e3%81%84%e7%a7%81%e3%81%ab%e3%81%aa%e3%82%8b%e6%96%b9%e6%b3%95%ef%bc%81/
LOCATION:クィーンズギャンビット\, 福岡市中央区薬院２−１４ー２６東洋薬院ビル３F
ATTACH;FMTTYPE=image/png:https://www.kawakami-misa.com/wp-content/uploads/2017/09/7dd4c3f74f006b34bb1d70d7adebd54e-1.png
END:VEVENT
BEGIN:VEVENT
DTSTART;TZID=Asia/Tokyo:20170524T140000
DTEND;TZID=Asia/Tokyo:20170524T160000
DTSTAMP:20260423T074305
CREATED:20170515T022303Z
LAST-MODIFIED:20170515T022303Z
UID:1167-1495634400-1495641600@www.kawakami-misa.com
SUMMARY:女神なお茶会in福岡
DESCRIPTION:『愛と豊かさ』をテーマにした女神が集まるお茶会を開催します(^o^) \n日時 5月24日 14時スタート！ \n場所\n福岡市中央区大名1-4-12-203\nアフロディーテ \n会費 3000円\nコーヒー、紅茶、ケーキ代込み\nご希望の方は一言リーディング！ \n5名さま限定です（╹◡╹）♡ \n・美しくなりたい方\n・運気アップしたい方\n・豊かになりたい方\n・楽しくおしゃべりしたい方\n・美味しいケーキが食べたい方 \nさまりん&ミサリンで、\n女神な皆様をおもてなしします💗 \n今回は特別に、一言リーディングもしちゃいます💗 \nお申し込みはこちらまで♪ \nお問い合わせ \n \n皆様とお会い出来るのを楽しみにしています(^o^) \n主催 さまりん&ミサリン
URL:https://www.kawakami-misa.com/event/%e5%a5%b3%e7%a5%9e%e3%81%aa%e3%81%8a%e8%8c%b6%e4%bc%9ain%e7%a6%8f%e5%b2%a1/
LOCATION:エステサロン　アフロディーテ\, 福岡県\, 福岡市中央区大名1-4-12-203\, Japan
ATTACH;FMTTYPE=image/jpeg:https://www.kawakami-misa.com/wp-content/uploads/2017/05/IMG_5431-300x300-1.jpg
END:VEVENT
END:VCALENDAR