BEGIN:VCALENDAR
VERSION:2.0
PRODID:-//Abundance Life 願いを叶えるオーラ&amp;チャクラ - ECPv6.9.0//NONSGML v1.0//EN
CALSCALE:GREGORIAN
METHOD:PUBLISH
X-WR-CALNAME:Abundance Life 願いを叶えるオーラ&amp;チャクラ
X-ORIGINAL-URL:https://www.kawakami-misa.com
X-WR-CALDESC:Abundance Life 願いを叶えるオーラ&amp;チャクラ のイベント
REFRESH-INTERVAL;VALUE=DURATION:PT1H
X-Robots-Tag:noindex
X-PUBLISHED-TTL:PT1H
BEGIN:VTIMEZONE
TZID:Asia/Tokyo
BEGIN:STANDARD
TZOFFSETFROM:+0900
TZOFFSETTO:+0900
TZNAME:JST
DTSTART:20160101T000000
END:STANDARD
END:VTIMEZONE
BEGIN:VEVENT
DTSTART;TZID=Asia/Tokyo:20160502T130000
DTEND;TZID=Asia/Tokyo:20160502T150000
DTSTAMP:20260423T184428
CREATED:20160312T153021Z
LAST-MODIFIED:20160312T153021Z
UID:994-1462194000-1462201200@www.kawakami-misa.com
SUMMARY:【ペガサスが教える豊かになるローチョコレッスン】
DESCRIPTION:ローチョコ食べると豊かになれる？ \nそんなフシギなことがあるんです(o^^o) \nペガサスは神の使いです。\n自由で楽しいことが大好き！ \nそんなペガサスからが教えてくれた\n【豊かになる法則】 \n豊かさってね、単にお金持ちになるだけじゃないとペガサスは言っています。 \nハートの豊かさ\n人間関係の豊かさ\n生活の豊かさ\n時間の豊かさ\n仕事の豊かさ \n全てを手に入れるフシギなローチョコ。 \nローチョコを作って頂きながら\n楽しく学びましょう \n【日時】5月２日 月曜日\n１３時〜１５時まで \n【場所】CHEERFUL会議室\n東京都千代田区東神田1-4-8\n谷郷館2ビル 2F \n【会費】8000円 \n・ローチョコ（お持ち帰り）\n・ロープリン（作り方の実践あり）\n・一人一人にペガサスからの豊かになるメッセージ付き（通常は50分20\,000円）\n・今、何をしたらいいか\n・豊かさを阻んでいるのものは何か\n・豊かさの受け取り方\nカンタンにできるものばかりです(o^^o) \n【川上美佐プロフィール】 \n今までにないアドバイスとエネルギーワークでクライアントをサポートします。 \n川上のセッションを受けると\n・結婚が決まった\n・収入が二倍に\n・プロポーズされた\n・悪縁が切れた\n・売り上げナンバーワンになった\n・仕事の予約がひっきりなしになった\nなどの結果が生まれます。\nほぼ100%! \n川上オリジナルブレスレットは\n一時間で売り切れの人気！ \n握手すると運が良くなるとのうわさも（笑） \n東京・大阪・長崎・福岡を中心に活動しています！\nクライアントは北海道から沖縄まで！ \n自らが答えをだして幸せを創れるようにというセッションが得意です*\(^o^)/* \nクライアントさんにも恵まれて笑顔の毎日を過ごしています（＾＾）
URL:https://www.kawakami-misa.com/event/%e3%80%90%e3%83%9a%e3%82%ac%e3%82%b5%e3%82%b9%e3%81%8c%e6%95%99%e3%81%88%e3%82%8b%e8%b1%8a%e3%81%8b%e3%81%ab%e3%81%aa%e3%82%8b%e3%83%ad%e3%83%bc%e3%83%81%e3%83%a7%e3%82%b3%e3%83%ac%e3%83%83%e3%82%b9/
END:VEVENT
END:VCALENDAR